BEGIN:VCALENDAR
VERSION:2.0
PRODID:-//Acme Widgets\, Inc.//NONSGML ExportToCalendar//EN
CALSCALE:GREGORIAN
BEGIN:VEVENT
DTSTAMP:20260422T140836Z
UID:a750216d-7898-4a27-8924-89299f136d51
DTSTART:20260429T170000
DTEND:20260429T173000
DESCRIPTION:Inspection for 43 Victoria Avenue\, SPRINGVALE VIC 3171
LOCATION:43 Victoria Avenue\, SPRINGVALE VIC 3171
SUMMARY:43 Victoria Avenue\, SPRINGVALE VIC 3171
END:VEVENT
END:VCALENDAR
