BEGIN:VCALENDAR
VERSION:2.0
PRODID:-//Acme Widgets\, Inc.//NONSGML ExportToCalendar//EN
CALSCALE:GREGORIAN
BEGIN:VEVENT
DTSTAMP:20260422T141252Z
UID:ddf16f43-eb9c-4cb7-bdc5-642dc2cfc7e0
DTSTART:20260425T110000
DTEND:20260425T113000
DESCRIPTION:Inspection for 43 Victoria Avenue\, SPRINGVALE VIC 3171
LOCATION:43 Victoria Avenue\, SPRINGVALE VIC 3171
SUMMARY:43 Victoria Avenue\, SPRINGVALE VIC 3171
END:VEVENT
END:VCALENDAR
