BEGIN:VCALENDAR
VERSION:2.0
PRODID:-//Acme Widgets\, Inc.//NONSGML ExportToCalendar//EN
CALSCALE:GREGORIAN
BEGIN:VEVENT
DTSTAMP:20260422T141602Z
UID:cf2d9cac-fbcb-432e-bf49-8ee79d76bf52
DTSTART:20260502T110000
DTEND:20260502T113000
DESCRIPTION:Inspection for 43 Victoria Avenue\, SPRINGVALE VIC 3171
LOCATION:43 Victoria Avenue\, SPRINGVALE VIC 3171
SUMMARY:43 Victoria Avenue\, SPRINGVALE VIC 3171
END:VEVENT
END:VCALENDAR
